BEGIN:VCALENDAR
VERSION:2.0
PRODID:-//声優・雨宮天 お仕事非公式データベース - ECPv6.15.20//NONSGML v1.0//EN
CALSCALE:GREGORIAN
METHOD:PUBLISH
X-WR-CALNAME:声優・雨宮天 お仕事非公式データベース
X-ORIGINAL-URL:https://blue10works.com
X-WR-CALDESC:声優・雨宮天 お仕事非公式データベース のイベント
REFRESH-INTERVAL;VALUE=DURATION:PT1H
X-Robots-Tag:noindex
X-PUBLISHED-TTL:PT1H
BEGIN:VTIMEZONE
TZID:Asia/Tokyo
BEGIN:STANDARD
TZOFFSETFROM:+0900
TZOFFSETTO:+0900
TZNAME:JST
DTSTART:20240101T000000
END:STANDARD
END:VTIMEZONE
BEGIN:VEVENT
DTSTART;VALUE=DATE:20250117
DTEND;VALUE=DATE:20250118
DTSTAMP:20260422T045406
CREATED:20251221T120908Z
LAST-MODIFIED:20251221T120908Z
UID:11759-1737072000-1737158399@blue10works.com
SUMMARY:【PV】雨宮天さんカウントダウン動画第三弾❣️ 雨宮さんが本作の注目ポイントをご紹介✨
DESCRIPTION:https://x.com/nazenige/status/1880178915479859459 \n 
URL:https://blue10works.com/event/%e3%80%90pv%e3%80%91%e9%9b%a8%e5%ae%ae%e5%a4%a9%e3%81%95%e3%82%93%e3%82%ab%e3%82%a6%e3%83%b3%e3%83%88%e3%83%80%e3%82%a6%e3%83%b3%e5%8b%95%e7%94%bb%e7%ac%ac%e4%b8%89%e5%bc%be%e2%9d%a3%ef%b8%8f/
END:VEVENT
END:VCALENDAR